BEGIN:VCALENDAR
VERSION:2.0
PRODID:-//eventon.com NONSGML v1.0//EN
BEGIN:VEVENT
UID:69e738f2dd53a
DTSTAMP:20260421T034434
DTSTART:20260625T000000Z
DTEND:20260625T045000Z
LOCATION:Howard County Fairgrounds 
SUMMARY:Greased Pig Contest
DESCRIPTION: Howard Electric Youth Event Follows Fair Queen Contest Cash prizes for greased pig 
END:VEVENT
END:VCALENDAR