BEGIN:VCALENDAR
VERSION:2.0
PRODID:-//eventon.com NONSGML v1.0//EN
BEGIN:VEVENT
UID:69e739cb2889b
DTSTAMP:20260421T034811
DTSTART:20260624T193000Z
DTEND:20260625T045000Z
LOCATION:
SUMMARY:Watermelon Eating and Seed Spitting Contest
DESCRIPTION: Watermelon Eating and Seed Spitting Contest
END:VEVENT
END:VCALENDAR