BEGIN:VCALENDAR
VERSION:2.0
PRODID:-//eventon.com NONSGML v1.0//EN
BEGIN:VEVENT
UID:69e737e178893
DTSTAMP:20260421T034001
DTSTART:20260624T183000Z
DTEND:20260625T045000Z
LOCATION:
SUMMARY:Frozen T-Shirt Race
DESCRIPTION: Frozen T-Shirt Race
END:VEVENT
END:VCALENDAR