BEGIN:VCALENDAR
VERSION:2.0
PRODID:-//eventon.com NONSGML v1.0//EN
BEGIN:VEVENT
UID:69e73813e2a5a
DTSTAMP:20260421T034051
DTSTART:20260624T173000Z
DTEND:20260625T045000Z
LOCATION:
SUMMARY:All Livestock Exhibitors Meeting with Meal
DESCRIPTION: Exhibitors Only. Meal passes will be distributed at livestock weigh-in.
END:VEVENT
END:VCALENDAR