BEGIN:VCALENDAR
VERSION:2.0
PRODID:-//eventon.com NONSGML v1.0//EN
BEGIN:VEVENT
UID:69e7362b95854
DTSTAMP:20260421T033243
DTSTART:20260622T220000Z
DTEND:20260623T045000Z
LOCATION:
SUMMARY:4H/FFA Dog Show
DESCRIPTION: 4H/FFA Dog Show
END:VEVENT
END:VCALENDAR