BEGIN:VCALENDAR
VERSION:2.0
PRODID:-//eventon.com NONSGML v1.0//EN
BEGIN:VEVENT
UID:69e73759e27bf
DTSTAMP:20260421T033745
DTSTART:20260627T160000Z
DTEND:20260627T190000Z
LOCATION:Howard County Fairgrounds 
SUMMARY:Water Slide Sponsored by Howard Electric
DESCRIPTION: Bounce House and Water Slide Sponsored by Howard Electric Cooperative Fair Board is NOT responsible for Accidents. Participate at your Own Risk.
END:VEVENT
END:VCALENDAR